Workbook

Sheet CLEVIS CALCS
A13: Variables are marked in RED BOLD. Press TAB to cycle the cells! | AF13: Top secret calculations area: move along folks nothing to see here.
B14: Good Clevis Design Practices: *Support the pin as much as possible within the slot (otherwise the pin will bendat lower loads); This is best done by keeping the slot width small. *If you use a bolt as a pin, make sure only the shank is exposed within the slot (rather than the threads). *Reduce the rIsk of tear out failure with this rule of thumb: L ≥ 1.5 D & W ≥ 3 D (in reference to the drawing at below right) *The corners of your sheet can have a radius up to w/2 without affectig the strength of the sheet. | AF14: dia | AG14: moved
AG15: slot width | AH15: moved | AK15: r | AL15: =D45/2 -> 0.5 | AU15: R1 | AV15: =D52/2 -> 0.5
B16: Immediate right: A clevis can fail in one of two ways, shown at right. A third failure mode is possibke because the clevis pin itself can fail via shear loading. Since the load on a clevis pin is distributed to two places on the pin, its strength is doubled (This is known as double shear and the calculations already reflect this). Far right: Input Dimensions needed for square clevis or sheet tear out. | AF16: pin | AG16: moved | AK16: x | AL16: =E45/2 -> 0.25 | AN16: x1 | AO16: =F45/2 -> 0.125 | AQ16: x2 | AR16: =AR17*TAN(RADIANS(AO18)) -> 0.064549722 | AU16: R2 | AV16: =E52/2 -> 0.25
AK17: y | AL17: =SQRT((D45/2)^2-(AL16)^2) -> 0.4330127 | AN17: y1 | AO17: =SQRT((AL15)^2-(AO16)^2) -> 0.48412292 | AQ17: y2 | AR17: =E45/2 -> 0.25
AK18: theta | AL18: =DEGREES(ATAN((AL16)/(AL17))) -> 30 | AM18: deg | AN18: theta1 | AO18: =DEGREES(ATAN((AO16)/(AO17))) -> 14.477512 | AQ18: a4 | AR18: =AR16*AR17/2 -> 0.0080687153 | AU18: A1 | AV18: =PI()*AV15^2 -> 0.78539816
AU19: A2 | AV19: =PI()*AV16^2 -> 0.19634954
AK20: a1 | AL20: =AL18/360* PI()*(AL15)^2 -> 0.065449847 | AN20: a3 | AO20: =AO18/360* PI()*(AL15)^2 -> 0.031585032
AK21: a2 | AL21: =AL16*AL17/2 -> 0.054126588 | AN21: a? | AO21: =AO16*AO17/2 -> 0.030257682 | AU21: L | AV21: =D52-E52 -> 0.5
AK22: Ab | AL22: =AO20+AO25-AR18 -> 0.030592714 | AU22: A3 | AV22: =F52*AV21 -> 0.125
AK23: whole area | AL23: =PI()*AL15^2 -> 0.78539816 | AN23: g | AO23: =AO17-AR17 -> 0.23412292
AK24: whole area cut | AL24: =SUM(AL20:AL22) -> 0.15016915 | AN24: t | AO24: =AO16-AR16 -> 0.060450278
AK25: working area | AL25: moved | AN25: a5 | AO25: =AO23*AO24/2 -> 0.0070763977
D28: SHEAR TEAR OUT FROM SHEET
D29: t (thickness) | E29: w (width) | F29: D (Pin Diameter) | G29: L (center of hole to edge) | H29: Effective Tensile Area | I29: Clevis Material | J29: Pin Material | K29: Clevis Rated Shear Tear Force | L29: Clevis Rated Tensile Force | M29: Pin Rated Force (pin in double shear) | N29: Failure Mode | O29: Max Rated Force of Entire Assembly | T29: Clevis Yield Strength | U29: Pin Shear Strength
D30: (in) | E30: (in) | F30: (in) | G30: (in) | H30: (in)2 | I30: select material by clicking on cell below | K30: (lbs) | L30: (lbs) | M30: (lbs) | N30: ~ | O30: (lbs) | T30: (psi) | U30: (psi)
D31: 0.375 | E31: 3 | F31: 0.5 | G31: 1.5 | H31: =(D31*(E31-F31)) -> 0.9375 | I31: A36 | J31: grade 5 | K31: =T31*D31*(G31-F31/2) -> 16875 | L31: =T31*H31 -> 33750 | M31: =((U31*PI()*(F31^2)/4)) -> 18064.158 | N31: =INDEX(K32:M32,MATCH(O31,K31:M31,0)) -> Shear Tear Out | O31: =MIN(K31:M31) -> 16875 | T31: =INDEX(AH42:AH180,'CLEVIS CALCS'!AF35) -> 36000 | U31: =INDEX(AI42:AI180,'CLEVIS CALCS'!AF36) -> 92000
K32: Shear Tear Out | L32: Tensile Failure | M32: Pin Failure
D35: SHEAR TEAR OUT FROM SQUARE CLEVIS (This is the same as two sheets except the pin is in double shear ans so twice as strong) | AF35: =MATCH('CLEVIS CALCS'!I31,AF42:AF62,0) -> 4 | AG35: match # | AH35: clevis 1/2
D36: t (thickness) | E36: w (width) | F36: D (Pin Diameter) | G36: L (center of hole to edge) | H36: Effective Tensile Area | I36: Clevis Material | J36: Pin Material | K36: Clevis Rated Shear Tear Force (double shear) | L36: Clevis Rated Tensile Force (double shear) | M36: Pin Rated Force (pin in double shear) | N36: Failure Mode | O36: Max Rated Force of Entire Assembly | T36: Clevis Yield Strength | U36: Pin Shear Strength | AF36: =MATCH('CLEVIS CALCS'!J31,AF42:AF62,0) -> 19 | AG36: match # | AH36: pin 1/2
D37: (in) | E37: (in) | F37: (in) | G37: (in) | H37: (in)2 | I37: select material by clicking on cell below | K37: (lbs) | L37: (lbs) | M37: (lbs) | N37: ~ | O37: (lbs) | T37: (psi) | U37: (psi)
D38: 0.375 | E38: 3 | F38: 0.5 | G38: 1.5 | H38: =2*(D38*(E38-F38)) -> 1.875 | I38: A36 | J38: alloy | K38: =T38*2*D38*(G38-F38/2) -> 33750 | L38: =T38*H38 -> 67500 | M38: =((U38*PI()*(F38^2)/4)*2) -> 60082.959 | N38: =INDEX(K39:M39,MATCH(O38,K38:M38,0)) -> Shear Tear Out | O38: =MIN(K38:M38) -> 33750 | T38: =INDEX(AH42:AH180,'CLEVIS CALCS'!AF38) -> 36000 | U38: =INDEX(AI42:AI180,'CLEVIS CALCS'!AF39) -> 153000 | AF38: =MATCH('CLEVIS CALCS'!I38,AF42:AF62,0) -> 4 | AG38: match # | AH38: clevis 1 | AJ38: =MATCH('CLEVIS CALCS'!I45,AF42:AF62,0) -> 4 | AK38: clevis 2 | AM38: =MATCH('CLEVIS CALCS'!I52,AF42:AF62,0) -> 4 | AN38: clevis 3
K39: Shear Tear Out | L39: Tensile Failure | M39: Pin Failure | AF39: =MATCH('CLEVIS CALCS'!J38,AF42:AF62,0) -> 21 | AG39: match # | AH39: pin 1 | AJ39: =MATCH('CLEVIS CALCS'!J45,AF42:AF62,0) -> 21 | AK39: pin 2 | AM39: =MATCH('CLEVIS CALCS'!J52,AF42:AF62,0) -> 21 | AN39: pin 3
AG41: Tensile Strength (PSI) | AH41: Yield Strength (PSI) | AI41: Shear Strength (PSI) | AJ41: Density lb/in³ | AK41: Youngs modulus | AL41: Modulus of Rigidity
D42: SLOTTED ROUND CLEVIS | AF42: 6061 | AG42: 45000 | AH42: 40000 | AI42: =0.6*AG42 -> 27000 | AJ42: 0.0975 | AK42: 10000000 | AL42: 3800000
D43: Clevis Outer Diameter | E43: Slot Width | F43: D (Pin Diameter) | G43: L (center of hole to edge) | H43: Effective Tensile Area | I43: Clevis Material | J43: Pin Material | K43: Clevis Rated Shear Tear Force (double shear) | L43: Clevis Rated Tensile Force (double shear) | M43: Pin Rated Force (pin in double shear) | N43: Failure Mode | O43: Max Rated Force of Entire Assembly | T43: Clevis Yield Strength | U43: Pin Shear Strength | AF43: 2011 | AG43: 55000 | AH43: 44000 | AI43: =0.6*AG43 -> 33000 | AJ43: 0.0975 | AK43: 10000000 | AL43: 3800000
D44: (in) | E44: (in) | F44: (in) | G44: (in) | H44: (in)2 | I44: select material by clicking on cell below | K44: (lbs) | L44: (lbs) | M44: (lbs) | N44: ~ | O44: (lbs) | T44: (psi) | U44: (psi) | AF44: 4140 | AG44: 70000 | AH44: 60000 | AI44: =0.6*AG44 -> 42000 | AJ44: 0.284 | AK44: 29000000 | AL44: 11500000
D45: 1 | E45: 0.5 | F45: 0.25 | G45: 1.5 | H45: =AL23-SUM(AL20:AL22)*4 -> 0.18472157 | I45: A36 | J45: alloy | K45: =T45*2*D46*(G46-F46/2) -> 24750 | L45: =T45*H45 -> 6649.9764 | M45: =((U45*PI()*(F45^2)/4)*2) -> 15020.74 | N45: =INDEX(K46:M46,MATCH(O45,K45:M45,0)) -> Tensile Failure | O45: =MIN(K45:M45) -> 6649.9764 | T45: =INDEX(AH42:AH180,'CLEVIS CALCS'!AJ38) -> 36000 | U45: =INDEX(AI42:AI180,'CLEVIS CALCS'!AJ39) -> 153000 | AF45: A36 | AG45: 60000 | AH45: 36000 | AI45: =0.6*AG45 -> 36000 | AJ45: 0.284 | AK45: 29000000 | AL45: 11500000 | AR45: stress = F/(2t*(L-d/2))
D46: =(D45/2)-(E45/2) -> 0.25 | E46: =2*AL17 -> 0.8660254 | F46: =F45 -> 0.25 | G46: =G45 -> 1.5 | K46: Shear Tear Out | L46: Tensile Failure | M46: Pin Failure | AF46: 304 | AG46: 73200 | AH46: 31200 | AI46: =0.6*AG46 -> 43920 | AJ46: 0.284 | AK46: 29000000 | AL46: 10900000 | AR46: L | AT46: in | AU46: length from hole center to edge of plate
AF47: 1144 | AG47: 115000 | AH47: 100000 | AI47: =0.6*AG47 -> 69000 | AJ47: 0.284 | AK47: 29000000 | AL47: 10900000 | AR47: d | AT47: in | AU47: hole dia
AF48: TGP 1045 | AG48: 92000 | AH48: 48000 | AI48: =0.6*AG48 -> 55200 | AJ48: 0.284 | AK48: 29000000 | AL48: 10900000 | AR48: l=L-d/2 | AS48: =G38-F38/2 -> 1.25 | AT48: in | AU48: material between hole edge and plate edge
D49: HOLLOW ROUND CLEVIS | AF49: 1018 | AG49: 63800 | AH49: 53700 | AI49: =0.6*AG49 -> 38280 | AJ49: 0.284 | AK49: 29000000 | AL49: 10900000 | AR49: t | AT49: in | AU49: thickness of sheet
D50: Clevis Outer Diameter | E50: Clevis Inner Diameter | F50: D (Pin Diameter) | G50: L (center of hole to edge) | H50: Effective Tensile Area | I50: Clevis Material | J50: Pin Material | K50: Clevis Rated Shear Tear Force (double shear) | L50: Clevis Rated Tensile Force (double shear) | M50: Pin Rated Force (pin in double shear) | N50: Failure Mode | O50: Max Rated Force of Entire Assembly | T50: Clevis Yield Strength | U50: Pin Shear Strength | AF50: Copper | AG50: 32000 | AH50: 10000 | AI50: =0.6*AG50 -> 19200 | AJ50: 0.324 | AK50: 16000000 | AL50: 6500000 | AR50: Yield | AS50: x | AT50: psi
D51: (in) | E51: (in) | F51: (in) | G51: (in) | H51: (in)2 | I51: select material by clicking on cell below | K51: (lbs) | L51: (lbs) | M51: (lbs) | N51: ~ | O51: (lbs) | T51: (psi) | U51: (psi) | AF51: Cast Iron | AG51: 40000 | AH51: =0.8*AG51 -> 32000 | AI51: =0.6*AG51 -> 24000 | AJ51: 0.284 | AK51: 14500000 | AL51: 5900000
D52: 1 | E52: 0.5 | F52: 0.25 | G52: 1.5 | H52: =AV18-AV19-AV22 -> 0.46404862 | I52: A36 | J52: alloy | K52: =T52*2*D53*(G53-F53/2) -> 24750 | L52: =T52*H52 -> 16705.75 | M52: =((U52*PI()*(F52^2)/4)*2) -> 15020.74 | N52: =INDEX(K53:M53,MATCH(O52,K52:M52,0)) -> Pin Failure | O52: =MIN(K52:M52) -> 15020.74 | T52: =INDEX(AH42:AH180,'CLEVIS CALCS'!AM38) -> 36000 | U52: =INDEX(AI42:AI180,'CLEVIS CALCS'!AM39) -> 153000 | AF52: Bronze | AG52: 35000 | AH52: 20000 | AI52: =0.6*AG52 -> 21000 | AJ52: 0.304 | AK52: 14500000 | AL52: 6500000 | AQ52: Rated Shear Tear Force (yield) | AT52: lb
D53: =(D52/2)-(E52/2) -> 0.25 | F53: =F52 -> 0.25 | G53: =G52 -> 1.5 | K53: Shear Tear Out | L53: Tensile Failure | M53: Pin Failure | AF53: UHMW PE | AG53: 3000 | AH53: =0.5*AG53 -> 1500 | AI53: =0.6*AG53 -> 1800 | AJ53: 0.034 | AK53: NA | AL53: NA | AS53: =AS52*4.448222 -> 0 | AT53: N
AF54: PVC | AG54: 6000 | AH54: =0.5*AG54 -> 3000 | AI54: =0.6*AG54 -> 3600 | AJ54: 0.05 | AK54: NA | AL54: NA
AF55: Polycarbinate | AG55: 9000 | AH55: =0.5*AG55 -> 4500 | AI55: =0.6*AG55 -> 5400 | AJ55: 0.046 | AK55: NA | AL55: NA
AF56: grade 1 | AH56: 36000 | AI56: 36000
AF57: ABS | AG57: 6500 | AH57: 6200 | AI57: =0.6*AG57 -> 3900 | AJ57: =(64+86)/2/12/12/12 -> 0.043402778 | AK57: 320000 | AL57: 152289.6
...
